BEGIN:VCALENDAR
VERSION:2.0
CALSCALE:GREGORIAN
METHOD:PUBLISH
X-WR-TIMEZONE:Australia/Sydney
BEGIN:VTIMEZONE
TZID:Australia/Sydney
BEGIN:STANDARD
TZNAME:AEST
END:STANDARD
END:VTIMEZONE
BEGIN:VEVENT
DTSTART;TZID=Australia/Sydney:20230913T083000
DTEND;TZID=Australia/Sydney:20230913T084500
RRULE:FREQ=WEEKLY;UNTIL=20231221T084500;BYDAY=WE
DTSTAMP:20260423T024032
UID:10
SUMMARY:Breakfast Club
DESCRIPTION:




8:30am start in the Learning Hub


SEQUENCE:0
STATUS:CONFIRMED
TRANSP:OPAQUE
END:VEVENT
END:VCALENDAR